BEGIN:VCALENDAR
VERSION:2.0
PRODID:-//SV Günztal Eldern - ECPv6.15.20//NONSGML v1.0//EN
CALSCALE:GREGORIAN
METHOD:PUBLISH
X-ORIGINAL-URL:https://sv-guenztal-eldern.de
X-WR-CALDESC:Veranstaltungen für SV Günztal Eldern
REFRESH-INTERVAL;VALUE=DURATION:PT1H
X-Robots-Tag:noindex
X-PUBLISHED-TTL:PT1H
BEGIN:VTIMEZONE
TZID:Europe/Berlin
BEGIN:DAYLIGHT
TZOFFSETFROM:+0100
TZOFFSETTO:+0200
TZNAME:CEST
DTSTART:20230326T010000
END:DAYLIGHT
BEGIN:STANDARD
TZOFFSETFROM:+0200
TZOFFSETTO:+0100
TZNAME:CET
DTSTART:20231029T010000
END:STANDARD
BEGIN:DAYLIGHT
TZOFFSETFROM:+0100
TZOFFSETTO:+0200
TZNAME:CEST
DTSTART:20240331T010000
END:DAYLIGHT
BEGIN:STANDARD
TZOFFSETFROM:+0200
TZOFFSETTO:+0100
TZNAME:CET
DTSTART:20241027T010000
END:STANDARD
BEGIN:DAYLIGHT
TZOFFSETFROM:+0100
TZOFFSETTO:+0200
TZNAME:CEST
DTSTART:20250330T010000
END:DAYLIGHT
BEGIN:STANDARD
TZOFFSETFROM:+0200
TZOFFSETTO:+0100
TZNAME:CET
DTSTART:20251026T010000
END:STANDARD
END:VTIMEZONE
BEGIN:VEVENT
DTSTART;VALUE=DATE:20240405
DTEND;VALUE=DATE:20240421
DTSTAMP:20260420T201634
CREATED:20230910T091830Z
LAST-MODIFIED:20230910T092957Z
UID:4930-1712275200-1713657599@sv-guenztal-eldern.de
SUMMARY:Schießbetrieb Gauschießen
DESCRIPTION:Schießzeiten: \n\nErster Schießtag (05.04.2023) 19:30 – 22 Uhr\nMo. – Fr. 17 – 22 Uhr\nSa.\, So.\, Feiertag 14 – 22 Uhr\nletzter Schießtag (20.04.2023) 14 – 21 Uhr
URL:https://sv-guenztal-eldern.de/event/schiessbetrieb-gauschiessen-2/
LOCATION:Schützenheim Eldern\, Eldern 18 a\, Ottobeuren\, 87724\, Germany
CATEGORIES:LG/LP
END:VEVENT
BEGIN:VEVENT
DTSTART;TZID=Europe/Berlin:20240405T180000
DTEND;TZID=Europe/Berlin:20240405T180000
DTSTAMP:20260420T201634
CREATED:20230910T090919Z
LAST-MODIFIED:20230910T090919Z
UID:4920-1712340000-1712340000@sv-guenztal-eldern.de
SUMMARY:Eröffnung Gauschießen
DESCRIPTION:
URL:https://sv-guenztal-eldern.de/event/eroeffnung-gauschiessen/
LOCATION:Schützenheim Eldern\, Eldern 18 a\, Ottobeuren\, 87724\, Germany
CATEGORIES:LG/LP
END:VEVENT
BEGIN:VEVENT
DTSTART;VALUE=DATE:20240414
DTEND;VALUE=DATE:20240415
DTSTAMP:20260420T201634
CREATED:20230910T092018Z
LAST-MODIFIED:20230910T093155Z
UID:4933-1713052800-1713139199@sv-guenztal-eldern.de
SUMMARY:Ende Mannschaftswettbewerbe Gauschießen
DESCRIPTION:Schießzeiten: \n\nErster Schießtag (05.04.2023) 19:30 – 22 Uhr\nMo. – Fr. 17 – 22 Uhr\nSa.\, So.\, Feiertag 14 – 22 Uhr
URL:https://sv-guenztal-eldern.de/event/ende-mannschaftswettbewerbe-gauschiessen/
LOCATION:Schützenheim Eldern\, Eldern 18 a\, Ottobeuren\, 87724\, Germany
CATEGORIES:LG/LP
END:VEVENT
BEGIN:VEVENT
DTSTART;TZID=Europe/Berlin:20240421T140000
DTEND;TZID=Europe/Berlin:20240421T140000
DTSTAMP:20260420T201634
CREATED:20230910T092450Z
LAST-MODIFIED:20230910T092450Z
UID:4937-1713708000-1713708000@sv-guenztal-eldern.de
SUMMARY:Finale Gauschießen
DESCRIPTION:Finale ab 14:15 Uhr\nFinale ab 15:30 Uhr\nFinale ab 16:45 Uhr\nFinale ab 18 Uhr\nFinale ab 19:15 Uhr
URL:https://sv-guenztal-eldern.de/event/finale-gauschiessen-2/
LOCATION:Schützenheim Eldern\, Eldern 18 a\, Ottobeuren\, 87724\, Germany
CATEGORIES:LG/LP
END:VEVENT
BEGIN:VEVENT
DTSTART;VALUE=DATE:20240427
DTEND;VALUE=DATE:20240429
DTSTAMP:20260420T201634
CREATED:20231016T073004Z
LAST-MODIFIED:20231016T073004Z
UID:5071-1714176000-1714348799@sv-guenztal-eldern.de
SUMMARY:WA Bogen 3D - Schwäbische Meisterschaft
DESCRIPTION:
URL:https://sv-guenztal-eldern.de/event/wa-bogen-3d-schwaebische-meisterschaft-2/
LOCATION:Ellerbach\, Ellerbach\, 89438
CATEGORIES:Bogen
END:VEVENT
BEGIN:VEVENT
DTSTART;VALUE=DATE:20240428
DTEND;VALUE=DATE:20240429
DTSTAMP:20260420T201634
CREATED:20230910T092658Z
LAST-MODIFIED:20230910T092658Z
UID:4940-1714262400-1714348799@sv-guenztal-eldern.de
SUMMARY:Festzug / Gottesdienst / Preisverteilung Gauschießen
DESCRIPTION:
URL:https://sv-guenztal-eldern.de/event/festzug-gottesdienst-preisverteilung-gauschiessen/
LOCATION:Ottobeuren\, Ottobeuren\, 87724
CATEGORIES:LG/LP
END:VEVENT
END:VCALENDAR